Workbook

Sheet 正誤表（R7）
A1: 第45回 特別区の統計（令和7年版） 正誤表
A2: 目次番号 | B2: 目次名称 | C2: 表番号 | D2: 表名称 | E2: 頁 | F2: 区名 | G2: 項目① | H2: 項目② | I2: 項目③ | J2: 正 | K2: 誤 | L2: 備考
A3: 11 | B3: 選挙・議会 | C3: 76 | D3: 区議会における各委員会の委員数及び開会回数（その２） | E3: 240 | F3: 総数 | G3: 特別委員会：委員会数 | J3: 138 | K3: 115 | L3: 令和８年10月9日訂正
A4: 11 | B4: 選挙・議会 | C4: 76 | D4: 区議会における各委員会の委員数及び開会回数（その２） | E4: 240 | F4: 総数 | G4: 特別委員会：開会回数 | J4: 1118 | K4: 955 | L4: 令和８年10月9日訂正
A5: 12 | B5: 執行機関 | C5: 80 | D5: 附属機関及び委員数（その１） | E5: 262
A6: 12 | B6: 執行機関 | C6: 80 | D6: 附属機関及び委員数（その１） | E6: 262
A7: 12 | B7: 執行機関 | C7: 80 | D7: 附属機関及び委員数（その１） | E7: 262
A8: 12 | B8: 執行機関 | C8: 80 | D8: 附属機関及び委員数（その１） | E8: 262

Sheet 訂正後
A1: 選挙・議会
A3: 76．区議会における各委員会の委員数及び開会回数（その２）
A4: 区 分 | B4: 特別委員会 | D4: 各特別委員会とその開会状況
A5: 区 名 | B5: 委員会数 | C5: 開会回数
A6: 総数 | B6: =[1]作成!AL10 -> 138 | C6: =[1]作成!AM10 -> 1118 | E6: 総
A7: 千代田 | B7: =[1]作成!AL11 -> 6 | C7: =[1]作成!AM11 -> 36 | D7: =[1]印刷作成用!B33 -> デジタル・トランスフォーメーション(7)[4] 公共施設調査・整備(8)[4] 文化継承・コミュニティ活性化(8)[5] 契約にかかる不正行為等再発防止(12)[9] 予算(24)[8] 予算・決算(24)[6] | E7: 千
A8: 中央 | B8: =[1]作成!AL12&CHAR(10) -> 7 | C8: =[1]作成!AM12&CHAR(10) -> 48 | D8: =[1]印刷作成用!B34 -> まちづくり・都市基盤対策(8)[2] 築地等都市基盤対策(8)[4] 地域活性化対策(7)[6] 子ども子育て・高齢者対策(8)[6] 防災等安全対策(7)[6] 予算(16)[12] 決算(14)[12] | E8: 中
A9: 港 | B9: =[1]作成!AL13 -> 8 | C9: =[1]作成!AM13 -> 62 | D9: =[1]印刷作成用!B35 -> 防災・危機管理等安全対策(9)[7] こどもまんなか・少子化等対策(8)[5] ＤＸ推進・行財政等対策(8)[6] 交通等対策(8)[7] 環境等対策(8)[7] 海外修学旅行調査(8)[10] 令和6年度予算(34)[10] 令和5年度決算(33)[10] | E9: 港
A10: 新宿 | B10: =[1]作成!AL14 -> 6 | C10: =[1]作成!AM14 -> 69 | D10: =[1]印刷作成用!B36 -> 防災等安全対策(10)[12] 自治・議会・行財政改革等(9)[11] 文化観光産業等(9)[15] 本庁舎対策等(9)[9] 予算(18)[12] 決算(18)[10] | E10: 新
A11: 文京 | B11: =[1]作成!AL15 -> 5 | C11: =[1]作成!AM15 -> 30 | D11: =[1]印刷作成用!B37 -> 自治制度・地域振興調査特別委員会(11)[5] 災害対策調査特別委員会(11)[4] 子ども・子育て支援調査特別委員会(11)[4] 決算審査特別委員会(18)[9] 予算審査特別委員会(18)[8] | E11: 文
A12: 台東 | B12: =[1]作成!AL16 -> 6 | C12: =[1]作成!AM16 -> 32 | D12: =[1]印刷作成用!B38 -> 子育て・若者支援(12)[4] 環境・安全安心(12)[4] 文化・観光(12)[4] 交通対策・地区整備(12)[4] 予算(16)[8] 決算(16)[8] | E12: 台
A13: 墨田 | B13: =[1]作成!AL17&CHAR(10) -> 10 | C13: =[1]作成!AM17&CHAR(10) -> 67 | D13: =[1]印刷作成用!B39 -> 放課後対策・情緒障害児等支援対策特別委員会(12)[3] 公園の在り方調査・災害対策特別委員会(10)[4] 自治体ＤＸ調査特別委員会(10)[3] 災害対策・ＤＸ調査特別委員会(8)[7] 放課後対策・幼稚園の在り方調査特別委員会(8)[10] 地域公共交通等調査特別委員会(8)[9] 議会改革・議会広報改革特別委員会(12)[9] 墨田区基本構想調査特別委員会(12)[3] 予算特別委員会(16)[10] 決算特別委員会(16)[9] | E13: 墨
A14: 江東 | B14: =[1]作成!AL18 -> 6 | C14: =[1]作成!AM18 -> 40 | D14: =[1]印刷作成用!B40 -> 清掃港湾・臨海部対策(11)[7] 交通対策推進・地下鉄８号線延伸(10)[7] 防災・まちづくり対策(9)[6] 医療・介護・高齢者支援(8)[7] 予算審査(41)[8] 決算審査(39)[5] | E14: 江
A15: 品川 | B15: =[1]作成!AL19 -> 4 | C15: =[1]作成!AM19 -> 41 | D15: =[1]印刷作成用!B41 -> 行財政改革(13)[12] 災害・環境対策(13)[12] 予算(39)[9] 決算(37)[8] | E15: 品
A16: 目黒 | B16: =[1]作成!AL20 -> 4 | C16: =[1]作成!AM20 -> 31 | D16: =[1]印刷作成用!B42 -> 区政再構築等調査(9)[6] 施設更新・DX等調査(9)[10] 予算(35)[8] 決算(32)[7] | E16: 目
A17: 大田 | B17: =[1]作成!AL21 -> 6 | C17: =[1]作成!AM21 -> 60 | D17: =[1]印刷作成用!B43 -> シティプロモーション・スポーツ調査(11)[10] 交通政策調査(12)[11] 羽田空港対策(12)[10] 防災安全対策(11)[11] 予算(43)[10] 決算(47)[8] | E17: 大
A18: 世田谷 | B18: =[1]作成!AL22 -> 6 | C18: =[1]作成!AM22 -> 54 | D18: =[1]印刷作成用!B44 -> DX・地域行政・公共施設整備等(13)[10] 環境・災害・防犯・オウム問題対策等(12)[8] 子ども・若者施策推進(13)[12] 公共交通機関・バリアフリー対策等(12)[8] 予算(49)[8] 決算(47)[8] | E18: 世
A19: 渋谷 | B19: =[1]作成!AL23 -> 6 | C19: =[1]作成!AM23 -> 62 | D19: =[1]印刷作成用!B45 -> 自治権確立(6)[13] 交通・公有地問題(9)[14] 多様性社会推進(9)[14] 官民連携事業調査(10)[13] 予算(34)[4] 決算(34)[4] | E19: 渋
A20: 中野 | B20: =[1]作成!AL24 -> 5 | C20: =[1]作成!AM24 -> 43 | D20: =[1]印刷作成用!B46 -> 中野駅周辺整備・西武新宿線沿線まちづくり調査(14)[10] 危機管理対策等調査(14)[7] 少子化対策・地域包括ケア調査(14)[6] 予算(42)[10] 決算(42)[10] | E20: 中
A21: 杉並 | B21: =[1]作成!AL25 -> 6 | C21: =[1]作成!AM25 -> 42 | D21: =[1]印刷作成用!B47 -> 災害対策・防犯等(12)[6] 道路交通対策(12)[5] 文化芸術・スポーツ・まちのにぎわいに関する(12)[6] DX・議会改革に関する(12)[5] 予算(48)[10] 決算(48)[10] | E21: 杉
A22: 豊島 | B22: =[1]作成!AL26 -> 7 | C22: =[1]作成!AM26 -> 79 | D22: =[1]印刷作成用!B48 -> 豊島副都心開発調査(36)[18] 行財政改革調査(9)[9] 環境・清掃対策調査(9)[9] 防災・震災対策調査(9)[10] 公共施設・公共用地有効活用対策調査(9)[9] 予算(18)[13] 決算(18)[11] | E22: 豊
A23: 北 | B23: =[1]作成!AL27 -> 5 | C23: =[1]作成!AM27 -> 29 | D23: =[1]印刷作成用!B49 -> 地域開発(13)[3] 防災対策(12)[5] 都市ブランド推進(13)[5] 予算(20)[8] 決算(19)[8] | E23: 北
A24: 荒川 | B24: =[1]作成!AL28 -> 6 | C24: =[1]作成!AM28 -> 50 | D24: =[1]印刷作成用!B50 -> 震災・災害対策調査特別委員会(8)[8] 観光・文化推進調査特別委員会(8)[5] 財政援助団体調査特別委員会(7)[6] 若者支援・健全育成調査特別委員会(8)[14] 決算に関する特別委員会(31)[8] 予算に関する特別委員会(31)[9] | E24: 荒
A25: 板橋 | B25: =[1]作成!AL29 -> 6 | C25: =[1]作成!AM29 -> 35 | D25: =[1]印刷作成用!B51 -> ブランド戦略推進調査(12)[5] 介護支援調査(11)[5] 災害対策調査(11)[5] ゼロカーボンシティ推進調査(11)[5] 予算審査(45)[9] 決算調査(45)[6] | E25: 板
A26: 練馬 | B26: =[1]作成!AL30 -> 6 | C26: =[1]作成!AM30 -> 86 | D26: =[1]印刷作成用!B52 -> 総合・災害対策等(13)[11] 医療・高齢者等(13)[17] みどり・環境等(12)[11] 交通対策等(12)[13] 予算(49)[22] 決算(49)[12] | E26: 練
A27: 足立 | B27: =[1]作成!AL31&CHAR(10) -> 6 | C27: =[1]作成!AM31&CHAR(10) -> 48 | D27: =[1]印刷作成用!B53 -> 総合交通対策調査特別委員会(11)[9] 子ども・子育て支援対策調査特別委員会(12)[9] 災害・オウム対策調査特別委員会(10)[9] エリアデザイン調査特別委員会(11)[9] 予算特別委員会(23)[6] 決算特別委員会(22)[6] | E27: 足
A28: 葛飾 | B28: =[1]作成!AL32 -> 5 | C28: =[1]作成!AM32 -> 20 | D28: =[1]印刷作成用!B54 -> 区民サービス向上対策(12)[4] 危機管理対策(12)[6] 都市基盤整備(12)[5] 予算審査(38)[3] 決算審査(36)[2] | E28: 葛
A29: 江戸川 | B29: =[1]作成!AL33 -> 6 | C29: =[1]作成!AM33 -> 54 | D29: =[1]印刷作成用!B55 -> 行財政改革・ＳＤＧｓ推進(12)[9] 災害対策・街づくり推進(12)[9] 健康推進・熟年者支援(12)[9] 子ども支援・教育力向上(12)[9] 予算(30)[9] 決算(28)[9] | E29: 江
A30: =[1]印刷①!A30 -> 資料：各区資料による。
A31: =[1]印刷①!A31 -> 注１）令和６年中に設置されていたもので新設、廃止を含む。名称変更は変更前、変更後それぞれを記載。
A32: ２）「各特別委員会とその開会状況」：区名、年度、特別委員会の名称は省略。また、（ ）内は委員数、［ ］内は開会回数。
A33: =[1]印刷①!A33 -> ３）「委員数」：令和６年12月31日現在（年度内に廃止された委員会は、廃止された時点）の現員数

Sheet 訂正前
A1: 選挙・議会
A3: 76．区議会における各委員会の委員数及び開会回数（その２）
A4: 区 分 | B4: 特別委員会 | D4: 各特別委員会とその開会状況
A5: 区 名 | B5: 委員会数 | C5: 開会回数
A6: 総数 | B6: 115 | C6: 955 | E6: 総
A7: 千代田 | B7: =[1]作成!AL11 -> 6 | C7: =[1]作成!AM11 -> 36 | D7: =[1]印刷作成用!B33 -> デジタル・トランスフォーメーション(7)[4] 公共施設調査・整備(8)[4] 文化継承・コミュニティ活性化(8)[5] 契約にかかる不正行為等再発防止(12)[9] 予算(24)[8] 予算・決算(24)[6] | E7: 千
A8: 中央 | B8: =[1]作成!AL12&CHAR(10) -> 7 | C8: =[1]作成!AM12&CHAR(10) -> 48 | D8: =[1]印刷作成用!B34 -> まちづくり・都市基盤対策(8)[2] 築地等都市基盤対策(8)[4] 地域活性化対策(7)[6] 子ども子育て・高齢者対策(8)[6] 防災等安全対策(7)[6] 予算(16)[12] 決算(14)[12] | E8: 中
A9: 港 | B9: =[1]作成!AL13 -> 8 | C9: =[1]作成!AM13 -> 62 | D9: =[1]印刷作成用!B35 -> 防災・危機管理等安全対策(9)[7] こどもまんなか・少子化等対策(8)[5] ＤＸ推進・行財政等対策(8)[6] 交通等対策(8)[7] 環境等対策(8)[7] 海外修学旅行調査(8)[10] 令和6年度予算(34)[10] 令和5年度決算(33)[10] | E9: 港
A10: 新宿 | B10: =[1]作成!AL14 -> 6 | C10: =[1]作成!AM14 -> 69 | D10: =[1]印刷作成用!B36 -> 防災等安全対策(10)[12] 自治・議会・行財政改革等(9)[11] 文化観光産業等(9)[15] 本庁舎対策等(9)[9] 予算(18)[12] 決算(18)[10] | E10: 新
A11: 文京 | B11: =[1]作成!AL15 -> 5 | C11: =[1]作成!AM15 -> 30 | D11: =[1]印刷作成用!B37 -> 自治制度・地域振興調査特別委員会(11)[5] 災害対策調査特別委員会(11)[4] 子ども・子育て支援調査特別委員会(11)[4] 決算審査特別委員会(18)[9] 予算審査特別委員会(18)[8] | E11: 文
A12: 台東 | B12: =[1]作成!AL16 -> 6 | C12: =[1]作成!AM16 -> 32 | D12: =[1]印刷作成用!B38 -> 子育て・若者支援(12)[4] 環境・安全安心(12)[4] 文化・観光(12)[4] 交通対策・地区整備(12)[4] 予算(16)[8] 決算(16)[8] | E12: 台
A13: 墨田 | B13: =[1]作成!AL17&CHAR(10) -> 10 | C13: =[1]作成!AM17&CHAR(10) -> 67 | D13: =[1]印刷作成用!B39 -> 放課後対策・情緒障害児等支援対策特別委員会(12)[3] 公園の在り方調査・災害対策特別委員会(10)[4] 自治体ＤＸ調査特別委員会(10)[3] 災害対策・ＤＸ調査特別委員会(8)[7] 放課後対策・幼稚園の在り方調査特別委員会(8)[10] 地域公共交通等調査特別委員会(8)[9] 議会改革・議会広報改革特別委員会(12)[9] 墨田区基本構想調査特別委員会(12)[3] 予算特別委員会(16)[10] 決算特別委員会(16)[9] | E13: 墨
A14: 江東 | B14: =[1]作成!AL18 -> 6 | C14: =[1]作成!AM18 -> 40 | D14: =[1]印刷作成用!B40 -> 清掃港湾・臨海部対策(11)[7] 交通対策推進・地下鉄８号線延伸(10)[7] 防災・まちづくり対策(9)[6] 医療・介護・高齢者支援(8)[7] 予算審査(41)[8] 決算審査(39)[5] | E14: 江
A15: 品川 | B15: =[1]作成!AL19 -> 4 | C15: =[1]作成!AM19 -> 41 | D15: =[1]印刷作成用!B41 -> 行財政改革(13)[12] 災害・環境対策(13)[12] 予算(39)[9] 決算(37)[8] | E15: 品
A16: 目黒 | B16: =[1]作成!AL20 -> 4 | C16: =[1]作成!AM20 -> 31 | D16: =[1]印刷作成用!B42 -> 区政再構築等調査(9)[6] 施設更新・DX等調査(9)[10] 予算(35)[8] 決算(32)[7] | E16: 目
A17: 大田 | B17: =[1]作成!AL21 -> 6 | C17: =[1]作成!AM21 -> 60 | D17: =[1]印刷作成用!B43 -> シティプロモーション・スポーツ調査(11)[10] 交通政策調査(12)[11] 羽田空港対策(12)[10] 防災安全対策(11)[11] 予算(43)[10] 決算(47)[8] | E17: 大
A18: 世田谷 | B18: =[1]作成!AL22 -> 6 | C18: =[1]作成!AM22 -> 54 | D18: =[1]印刷作成用!B44 -> DX・地域行政・公共施設整備等(13)[10] 環境・災害・防犯・オウム問題対策等(12)[8] 子ども・若者施策推進(13)[12] 公共交通機関・バリアフリー対策等(12)[8] 予算(49)[8] 決算(47)[8] | E18: 世
A19: 渋谷 | B19: =[1]作成!AL23 -> 6 | C19: =[1]作成!AM23 -> 62 | D19: =[1]印刷作成用!B45 -> 自治権確立(6)[13] 交通・公有地問題(9)[14] 多様性社会推進(9)[14] 官民連携事業調査(10)[13] 予算(34)[4] 決算(34)[4] | E19: 渋
A20: 中野 | B20: =[1]作成!AL24 -> 5 | C20: =[1]作成!AM24 -> 43 | D20: =[1]印刷作成用!B46 -> 中野駅周辺整備・西武新宿線沿線まちづくり調査(14)[10] 危機管理対策等調査(14)[7] 少子化対策・地域包括ケア調査(14)[6] 予算(42)[10] 決算(42)[10] | E20: 中
A21: 杉並 | B21: =[1]作成!AL25 -> 6 | C21: =[1]作成!AM25 -> 42 | D21: =[1]印刷作成用!B47 -> 災害対策・防犯等(12)[6] 道路交通対策(12)[5] 文化芸術・スポーツ・まちのにぎわいに関する(12)[6] DX・議会改革に関する(12)[5] 予算(48)[10] 決算(48)[10] | E21: 杉
A22: 豊島 | B22: =[1]作成!AL26 -> 7 | C22: =[1]作成!AM26 -> 79 | D22: =[1]印刷作成用!B48 -> 豊島副都心開発調査(36)[18] 行財政改革調査(9)[9] 環境・清掃対策調査(9)[9] 防災・震災対策調査(9)[10] 公共施設・公共用地有効活用対策調査(9)[9] 予算(18)[13] 決算(18)[11] | E22: 豊
A23: 北 | B23: =[1]作成!AL27 -> 5 | C23: =[1]作成!AM27 -> 29 | D23: =[1]印刷作成用!B49 -> 地域開発(13)[3] 防災対策(12)[5] 都市ブランド推進(13)[5] 予算(20)[8] 決算(19)[8] | E23: 北
A24: 荒川 | B24: =[1]作成!AL28 -> 6 | C24: =[1]作成!AM28 -> 50 | D24: =[1]印刷作成用!B50 -> 震災・災害対策調査特別委員会(8)[8] 観光・文化推進調査特別委員会(8)[5] 財政援助団体調査特別委員会(7)[6] 若者支援・健全育成調査特別委員会(8)[14] 決算に関する特別委員会(31)[8] 予算に関する特別委員会(31)[9] | E24: 荒
A25: 板橋 | B25: =[1]作成!AL29 -> 6 | C25: =[1]作成!AM29 -> 35 | D25: =[1]印刷作成用!B51 -> ブランド戦略推進調査(12)[5] 介護支援調査(11)[5] 災害対策調査(11)[5] ゼロカーボンシティ推進調査(11)[5] 予算審査(45)[9] 決算調査(45)[6] | E25: 板
A26: 練馬 | B26: =[1]作成!AL30 -> 6 | C26: =[1]作成!AM30 -> 86 | D26: =[1]印刷作成用!B52 -> 総合・災害対策等(13)[11] 医療・高齢者等(13)[17] みどり・環境等(12)[11] 交通対策等(12)[13] 予算(49)[22] 決算(49)[12] | E26: 練
A27: 足立 | B27: =[1]作成!AL31&CHAR(10) -> 6 | C27: =[1]作成!AM31&CHAR(10) -> 48 | D27: =[1]印刷作成用!B53 -> 総合交通対策調査特別委員会(11)[9] 子ども・子育て支援対策調査特別委員会(12)[9] 災害・オウム対策調査特別委員会(10)[9] エリアデザイン調査特別委員会(11)[9] 予算特別委員会(23)[6] 決算特別委員会(22)[6] | E27: 足
A28: 葛飾 | B28: =[1]作成!AL32 -> 5 | C28: =[1]作成!AM32 -> 20 | D28: =[1]印刷作成用!B54 -> 区民サービス向上対策(12)[4] 危機管理対策(12)[6] 都市基盤整備(12)[5] 予算審査(38)[3] 決算審査(36)[2] | E28: 葛
A29: 江戸川 | B29: =[1]作成!AL33 -> 6 | C29: =[1]作成!AM33 -> 54 | D29: =[1]印刷作成用!B55 -> 行財政改革・ＳＤＧｓ推進(12)[9] 災害対策・街づくり推進(12)[9] 健康推進・熟年者支援(12)[9] 子ども支援・教育力向上(12)[9] 予算(30)[9] 決算(28)[9] | E29: 江
A30: =[1]印刷①!A30 -> 資料：各区資料による。
A31: =[1]印刷①!A31 -> 注１）令和６年中に設置されていたもので新設、廃止を含む。名称変更は変更前、変更後それぞれを記載。
A32: ２）「各特別委員会とその開会状況」：区名、年度、特別委員会の名称は省略。また、（ ）内は委員数、［ ］内は開会回数。
A33: =[1]印刷①!A33 -> ３）「委員数」：令和６年12月31日現在（年度内に廃止された委員会は、廃止された時点）の現員数
